BEGIN:VCALENDAR
VERSION:2.0
PRODID:-//Fourth Street Clinic - ECPv6.15.20//NONSGML v1.0//EN
CALSCALE:GREGORIAN
METHOD:PUBLISH
X-ORIGINAL-URL:https://fourthstreetclinic.org
X-WR-CALDESC:Events for Fourth Street Clinic
REFRESH-INTERVAL;VALUE=DURATION:PT1H
X-Robots-Tag:noindex
X-PUBLISHED-TTL:PT1H
BEGIN:VTIMEZONE
TZID:America/Denver
BEGIN:DAYLIGHT
TZOFFSETFROM:-0700
TZOFFSETTO:-0600
TZNAME:MDT
DTSTART:20160313T090000
END:DAYLIGHT
BEGIN:STANDARD
TZOFFSETFROM:-0600
TZOFFSETTO:-0700
TZNAME:MST
DTSTART:20161106T080000
END:STANDARD
BEGIN:DAYLIGHT
TZOFFSETFROM:-0700
TZOFFSETTO:-0600
TZNAME:MDT
DTSTART:20170312T090000
END:DAYLIGHT
BEGIN:STANDARD
TZOFFSETFROM:-0600
TZOFFSETTO:-0700
TZNAME:MST
DTSTART:20171105T080000
END:STANDARD
BEGIN:DAYLIGHT
TZOFFSETFROM:-0700
TZOFFSETTO:-0600
TZNAME:MDT
DTSTART:20180311T090000
END:DAYLIGHT
BEGIN:STANDARD
TZOFFSETFROM:-0600
TZOFFSETTO:-0700
TZNAME:MST
DTSTART:20181104T080000
END:STANDARD
END:VTIMEZONE
BEGIN:VEVENT
DTSTART;TZID=America/Denver:20170603T090000
DTEND;TZID=America/Denver:20170603T110000
DTSTAMP:20260421T035427
CREATED:20161118T020422Z
LAST-MODIFIED:20161118T020752Z
UID:10000043-1496480400-1496487600@fourthstreetclinic.org
SUMMARY:The Great Inflatable Race
DESCRIPTION:WHAT IS THE GREAT INFLATABLE RACE?\nIt’s the wackiest\, craziest and bounciest obstacle fun run to hit the nation! Giant inflatable obstacles spread throughout the course that bounce\, bump and slide you all over the place! There is no better fun run to attend with your friends\, families and thousands of strangers than The Great Inflatable Race! \nFourth Street Clinic’s Partnership\nWe are proud to be sponsored by The Great Inflatable Race for the second year in a row! Fourth Street Clinic has been serving Utah’s homeless community for nearly 30 years\, providing health care and support services to improve health and quality of life to those who need it most. \nWhen you register for The Great Inflatable Race\, use promo code FSC2017 – a portion of the proceeds will benefit Fourth Street Clinic! \nYou can register now for 2017’s Great Inflatable Race in the Salt Lake City area. We’ll see you there!
URL:https://fourthstreetclinic.org/event/the-great-inflatable-race-2/
LOCATION:Murray Park\, 296 E Murray Park Ave.\, Murray\, UT\, 84107\, United States
ATTACH;FMTTYPE=image/png:https://fourthstreetclinic.org/wp-content/uploads/2016/11/tgir.png
GEO:40.6592842;-111.8850847
X-APPLE-STRUCTURED-LOCATION;VALUE=URI;X-ADDRESS=Murray Park 296 E Murray Park Ave. Murray UT 84107 United States;X-APPLE-RADIUS=500;X-TITLE=296 E Murray Park Ave.:geo:-111.8850847,40.6592842
END:VEVENT
END:VCALENDAR