BEGIN:VCALENDAR
VERSION:2.0
PRODID:-//Fourth Street Clinic - ECPv6.15.20//NONSGML v1.0//EN
CALSCALE:GREGORIAN
METHOD:PUBLISH
X-WR-CALNAME:Fourth Street Clinic
X-ORIGINAL-URL:https://fourthstreetclinic.org
X-WR-CALDESC:Events for Fourth Street Clinic
REFRESH-INTERVAL;VALUE=DURATION:PT1H
X-Robots-Tag:noindex
X-PUBLISHED-TTL:PT1H
BEGIN:VTIMEZONE
TZID:America/Denver
BEGIN:DAYLIGHT
TZOFFSETFROM:-0700
TZOFFSETTO:-0600
TZNAME:MDT
DTSTART:20240310T090000
END:DAYLIGHT
BEGIN:STANDARD
TZOFFSETFROM:-0600
TZOFFSETTO:-0700
TZNAME:MST
DTSTART:20241103T080000
END:STANDARD
BEGIN:DAYLIGHT
TZOFFSETFROM:-0700
TZOFFSETTO:-0600
TZNAME:MDT
DTSTART:20250309T090000
END:DAYLIGHT
BEGIN:STANDARD
TZOFFSETFROM:-0600
TZOFFSETTO:-0700
TZNAME:MST
DTSTART:20251102T080000
END:STANDARD
BEGIN:DAYLIGHT
TZOFFSETFROM:-0700
TZOFFSETTO:-0600
TZNAME:MDT
DTSTART:20260308T090000
END:DAYLIGHT
BEGIN:STANDARD
TZOFFSETFROM:-0600
TZOFFSETTO:-0700
TZNAME:MST
DTSTART:20261101T080000
END:STANDARD
END:VTIMEZONE
BEGIN:VEVENT
DTSTART;TZID=America/Denver:20251218T173000
DTEND;TZID=America/Denver:20251218T183000
DTSTAMP:20260421T023242
CREATED:20251111T171659Z
LAST-MODIFIED:20251211T194222Z
UID:10000042-1766079000-1766082600@fourthstreetclinic.org
SUMMARY:Homeless Persons' Memorial Day - Candlelight Vigil
DESCRIPTION:On Thursday\, December 18th\, 2025\, we will be gathering in the Northeast Corner of Pioneer Park in Salt Lake City to remember and honor those who have passed away in Salt Lake County in the last year\, either while experiencing homelessness or having recently experienced homelessness. This event is dedicated to those who have passed and is an opportunity for friends\, family\, and community members to remember and reflect. All are welcome.
URL:https://fourthstreetclinic.org/event/vigil/
LOCATION:Pioneer Park\, 350 300 W\, Salt Lake City\, Utah\, 84101\, United States
CATEGORIES:Vigil
ATTACH;FMTTYPE=image/png:https://fourthstreetclinic.org/wp-content/uploads/2025/11/Vigil-Social-Media_Instagram-Post-45.png
ORGANIZER;CN="Fourth Street Clinic":MAILTO:info@fourthstreetclinic.org
GEO:40.777116;-111.8991714
X-APPLE-STRUCTURED-LOCATION;VALUE=URI;X-ADDRESS=Pioneer Park 350 300 W Salt Lake City Utah 84101 United States;X-APPLE-RADIUS=500;X-TITLE=350 300 W:geo:-111.8991714,40.777116
END:VEVENT
END:VCALENDAR