BEGIN:VCALENDAR
VERSION:2.0
PRODID:-//Fourth Street Clinic - ECPv6.15.20//NONSGML v1.0//EN
CALSCALE:GREGORIAN
METHOD:PUBLISH
X-WR-CALNAME:Fourth Street Clinic
X-ORIGINAL-URL:https://fourthstreetclinic.org
X-WR-CALDESC:Events for Fourth Street Clinic
REFRESH-INTERVAL;VALUE=DURATION:PT1H
X-Robots-Tag:noindex
X-PUBLISHED-TTL:PT1H
BEGIN:VTIMEZONE
TZID:UTC
BEGIN:STANDARD
TZOFFSETFROM:+0000
TZOFFSETTO:+0000
TZNAME:UTC
DTSTART:20150101T000000
END:STANDARD
END:VTIMEZONE
BEGIN:VTIMEZONE
TZID:America/Denver
BEGIN:DAYLIGHT
TZOFFSETFROM:-0700
TZOFFSETTO:-0600
TZNAME:MDT
DTSTART:20150308T090000
END:DAYLIGHT
BEGIN:STANDARD
TZOFFSETFROM:-0600
TZOFFSETTO:-0700
TZNAME:MST
DTSTART:20151101T080000
END:STANDARD
BEGIN:DAYLIGHT
TZOFFSETFROM:-0700
TZOFFSETTO:-0600
TZNAME:MDT
DTSTART:20160313T090000
END:DAYLIGHT
BEGIN:STANDARD
TZOFFSETFROM:-0600
TZOFFSETTO:-0700
TZNAME:MST
DTSTART:20161106T080000
END:STANDARD
BEGIN:DAYLIGHT
TZOFFSETFROM:-0700
TZOFFSETTO:-0600
TZNAME:MDT
DTSTART:20170312T090000
END:DAYLIGHT
BEGIN:STANDARD
TZOFFSETFROM:-0600
TZOFFSETTO:-0700
TZNAME:MST
DTSTART:20171105T080000
END:STANDARD
BEGIN:DAYLIGHT
TZOFFSETFROM:-0700
TZOFFSETTO:-0600
TZNAME:MDT
DTSTART:20180311T090000
END:DAYLIGHT
BEGIN:STANDARD
TZOFFSETFROM:-0600
TZOFFSETTO:-0700
TZNAME:MST
DTSTART:20181104T080000
END:STANDARD
END:VTIMEZONE
BEGIN:VEVENT
DTSTART;TZID=UTC:20170429T180000
DTEND;TZID=UTC:20170429T200000
DTSTAMP:20260420T115808
CREATED:20170322T001722Z
LAST-MODIFIED:20170322T002747Z
UID:10000059-1493488800-1493496000@fourthstreetclinic.org
SUMMARY:The Spring Fling at St. James Episcopal Church
DESCRIPTION:The Spring Fling benefit auction at St. James Episcopal Church is coming! On Saturday\, April 29\, come benefit Fourth Street Clinic\, The Road Home\, Granite Education Foundation and Volunteers of America – Utah. \nSt. James Episcopal has been a strong community partner in ending homelessness and poverty in Utah. Their previous work has raised thousands of dollars for the underserved\, and the Spring Fling will be a great opportunity to help men\, women and children experiencing homelessness in the state. \nAbout the Beneficiaries:\nFourth Street Clinic has provided extensive health care to homeless Utahns since 1988\, and in 2016 treated 4\,988 men\, women and children experiencing homelessness. The Road Home is Utah’s largest homeless shelter\, continually giving a path toward stable housing and normalcy. The Granite Education Foundation provides resources to children in Granite School District that lets children succeed and get the best education possible. Volunteers of America in Utah provide a wealth of resources to homeless youth. \nGet your tickets for only $25 and help us raise money for a good cause! \nFor tickets and details\, contact St. James Episcopal Church in Midvale at (801) 566-1322 or via email: office@stjamesutah.com.
URL:https://fourthstreetclinic.org/event/spring-fling-benefit-auction-2017/
LOCATION:St. James Episcopal Church\, 7486 Union Park Ave\, Midvale\, UT \, Midvale\, UT\, 84047\, United States
ATTACH;FMTTYPE=image/jpeg:https://fourthstreetclinic.org/wp-content/uploads/2017/03/springfling.jpg
GEO:40.6149838;-111.8596067
X-APPLE-STRUCTURED-LOCATION;VALUE=URI;X-ADDRESS=St. James Episcopal Church 7486 Union Park Ave Midvale UT Midvale UT 84047 United States;X-APPLE-RADIUS=500;X-TITLE=7486 Union Park Ave\, Midvale\, UT:geo:-111.8596067,40.6149838
END:VEVENT
BEGIN:VEVENT
DTSTART;TZID=America/Denver:20170330T173000
DTEND;TZID=America/Denver:20170330T200000
DTSTAMP:20260420T115808
CREATED:20170223T060611Z
LAST-MODIFIED:20170315T054847Z
UID:10000061-1490895000-1490904000@fourthstreetclinic.org
SUMMARY:Love Utah Give Utah
DESCRIPTION:Support your favorite nonprofit during Love Utah Give Utah!\nOn Thursday\, March 30\, support of Fourth Street Clinic by donating during the Love Utah Give Utah online fundraiser! \nThe 24-hour event is hosted by the Community Foundation of Utah and presented by Mark Miller Subaru. Love UT Give UT offers hundreds of nonprofits the opportunity to raise millions of dollars. Donate now and impact the people and places of Utah held close to your heart! \nThroughout the month of March\, head to our Love Utah Give Utah online profile and donate to Fourth Street Clinic. Love Utah Give Utah will end with a big push to donate on Thursday\, March 30\, when the event draws to a close. The nonprofit earning the most money will be awarded with an additional cash prize of $5\,000! You’ll also be automatically entered to win a three-year lease of a Subaru Impreza when you donate! \nAs Love Utah Give Utah comes to a close on March 30th\, Fourth Street Clinic invites you to come to the clinic for some refreshments\, to tour our health care facility\, and meet our new Medical Director and COO. This event is open to the public.
URL:https://fourthstreetclinic.org/event/love-utah-give-utah/
LOCATION:Fourth Street Clinic\, 409 West 400 South\, Salt Lake City\, UT\, 84101\, United States
CATEGORIES:Fundraising
ATTACH;FMTTYPE=image/jpeg:https://fourthstreetclinic.org/wp-content/uploads/2017/02/FB-Instagram.jpg
GEO:40.7602114;-111.9031102
X-APPLE-STRUCTURED-LOCATION;VALUE=URI;X-ADDRESS=Fourth Street Clinic 409 West 400 South Salt Lake City UT 84101 United States;X-APPLE-RADIUS=500;X-TITLE=409 West 400 South:geo:-111.9031102,40.7602114
END:VEVENT
BEGIN:VEVENT
DTSTART;TZID=America/Denver:20170323T170000
DTEND;TZID=America/Denver:20170326T153000
DTSTAMP:20260420T115808
CREATED:20170303T013950Z
LAST-MODIFIED:20170303T015002Z
UID:10000060-1490288400-1490542200@fourthstreetclinic.org
SUMMARY:Labeled Film Festival
DESCRIPTION:Labeled Film Festival to crush stigma of mental health\n\nIn a culture stigmatizing people living with mental illness\, Labeled Mental Health Film Festival challenges audiences to understand the person behind the labels. Movies often portray those with mental illness as outcasts\, debilitated\, isolated\, dependent\, dangerous\, unpredictable\, comedic\, annoying and incompetent. \nLabeled strives to humanize individuals struggling with mental illness and break the stereotype. Film gives someone the chance to look beyond themselves; the Labeled Film Festival creates empathy for those plagued with unseen disease. \nSevere Persistent Mental Illness plagues 97\,000 Utahns annually. The battles and struggles caused by mental illness are real; its influence felt upon our community by many. ‘Labeled’ will showcase thought-provoking films that explore mental health issues from numerous perspectives. The festival brings together a community of health providers\, government agencies\, educators\, policy makers\, caregivers\, and individuals who want to better understand and support those with mental illness. \nFourth Street Clinic provides mental health care to nearly 5\,000 homeless men\, women and children each year; the clinic had over 2\,600 mental and behavioral health care visits in 2016. Giving the community a chance to understand severe mental illness through film helps create empathy and solidarity. Together we can fight mental illness in Utah. \n\nA film festival to break stigma and create cause for mental health.\n\nThere are 19 films being featured at the Labeled Film Festival. The films will screen at The Natural History Museum of Utah and the Broadway Theatre in Salt Lake City. Film Festival participants can purchase individual day tickets for just $20 or purchase and participate in the entire festival. \nPricing and ticket information is detailed at the Labeled Film Festival website with all admission proceeds going to support film festival mental health partners. You can also check out the Labeled Facebook page for more information.
URL:https://fourthstreetclinic.org/event/labeled-film-festival-2017/
LOCATION:Broadway Centre Theatre\, 111 East Broadway\, Salt Lake City\, UT\, 84111\, United States
CATEGORIES:Film Festival,Fundraising,Mental Health Awareness
ATTACH;FMTTYPE=image/jpeg:https://fourthstreetclinic.org/wp-content/uploads/2017/03/labeled_1-e1488480541276.jpg
GEO:40.7631476;-111.8876053
X-APPLE-STRUCTURED-LOCATION;VALUE=URI;X-ADDRESS=Broadway Centre Theatre 111 East Broadway Salt Lake City UT 84111 United States;X-APPLE-RADIUS=500;X-TITLE=111 East Broadway:geo:-111.8876053,40.7631476
END:VEVENT
BEGIN:VEVENT
DTSTART;VALUE=DATE:20161209
DTEND;VALUE=DATE:20161210
DTSTAMP:20260420T115808
CREATED:20161102T160943Z
LAST-MODIFIED:20161128T030821Z
UID:10000046-1481241600-1481327999@fourthstreetclinic.org
SUMMARY:Fill the Pack VOA Event
DESCRIPTION:Fill the Pack is an annual holiday drive that provides necessary and critical items for youth and promotes the spirit of giving for many individuals who give to make Fill the Pack a success each year! Join us this holiday season; help us collect 200+ backpacks and raise $20\,000 that will go directly to providing services to homeless youth throughout the year. We are collecting new backpacks\, basic need items and fun holiday gifts. Let your holiday giving mean more to you and your family by providing necessary and critical items to youth experiencing homelessness. For many youth it will be the only gift they will receive this winter\, thank you for being a part of that.
URL:https://fourthstreetclinic.org/event/fill-the-pack-voa-event/
LOCATION:UT
ATTACH;FMTTYPE=image/png:https://fourthstreetclinic.org/wp-content/uploads/2016/11/fillthepack.png
ORGANIZER;CN="Volunteers of America%2C Utah":MAILTO:info@voaut.org
END:VEVENT
BEGIN:VEVENT
DTSTART;VALUE=DATE:20161201
DTEND;VALUE=DATE:20161224
DTSTAMP:20260420T115808
CREATED:20161110T001222Z
LAST-MODIFIED:20161128T030742Z
UID:10000044-1480550400-1482537599@fourthstreetclinic.org
SUMMARY:Candy Cane Corner 2016
DESCRIPTION:So what is Candy Cane Corner? It’s a holiday store that provides a dignified and empowering opportunity for low-income families and individuals who are participating in programs at the YWCA  Utah\, The Road Home\, and Volunteers of America\, Utah to select new holiday gifts for their families. \nEach year Candy Cane Corner ensures that hundreds of families have a warm and full holiday season. We are proud to celebrate our 17th year of helping families in need celebrate the holidays. This wonderful holiday program is only possible because of the support and generosity we receive from our community. \nCandy Cane Corner will run from December 1 – 23 this year. Check out the wish list of items here\, as well as the top ten list of needs during Candy Cane Corner.
URL:https://fourthstreetclinic.org/event/candy-cane-corner-2016/
LOCATION:The Road Home\, 210 Rio Grande Street\, Salt Lake City\, UT\, 84101\, United States
ATTACH;FMTTYPE=image/jpeg:https://fourthstreetclinic.org/wp-content/uploads/2016/11/CCC-Logo-New.jpg
GEO:40.7645557;-111.9044144
X-APPLE-STRUCTURED-LOCATION;VALUE=URI;X-ADDRESS=The Road Home 210 Rio Grande Street Salt Lake City UT 84101 United States;X-APPLE-RADIUS=500;X-TITLE=210 Rio Grande Street:geo:-111.9044144,40.7645557
END:VEVENT
BEGIN:VEVENT
DTSTART;VALUE=DATE:20161201
DTEND;VALUE=DATE:20161211
DTSTAMP:20260420T115808
CREATED:20161102T160557Z
LAST-MODIFIED:20161128T030900Z
UID:10000047-1480550400-1481414399@fourthstreetclinic.org
SUMMARY:Give One\, Raise Two
DESCRIPTION:Double your Donation — Thanks to Our Generous Sponsors\nYour donation during Give One Raise Two will be doubled thanks to our generous sponsors. If you gave $150\, our sponsors will raise it to $300! What could $300 provide Fourth Street Clinic and its patients? \n\n60 Flu Shots\n48 Case Management Visits \n30 Wellness Classes\n6 Tooth Extractions\n2 Mental Health Screenings\n1 Mammogram Screening\n\nAny amount will make a huge difference in the lives of our homeless friends in Salt Lake City. 
URL:https://fourthstreetclinic.org/event/give-one-raise-two/
LOCATION:UT
ATTACH;FMTTYPE=image/jpeg:https://fourthstreetclinic.org/wp-content/uploads/2016/11/FSC-give-one-raise-two-1-1.jpg
END:VEVENT
BEGIN:VEVENT
DTSTART;TZID=UTC:20161112T070000
DTEND;TZID=UTC:20161112T110000
DTSTAMP:20260420T115808
CREATED:20161102T155719Z
LAST-MODIFIED:20161128T030939Z
UID:10000048-1478934000-1478948400@fourthstreetclinic.org
SUMMARY:Pancake Breakfast
DESCRIPTION:The St. James Episcopal Church in Midvale is hosting a breakfast fundraiser in behalf of Fourth Street Clinic. A family-friendly fundraiser to help heal the homeless community in Salt Lake County\, the pancake breakfast will run from 7:00 – 11:00 a.m. \nSuggested ticket price: $10. Donations to benefit Fourth Street Clinic.
URL:https://fourthstreetclinic.org/event/pancake-breakfast/
LOCATION:St. James Episcopal Church\, 7486 Union Park Ave\, Midvale\, UT \, Midvale\, UT\, 84047\, United States
ATTACH;FMTTYPE=image/jpeg:https://fourthstreetclinic.org/wp-content/uploads/2016/11/pancakesbanner.jpg
GEO:40.6149838;-111.8596067
X-APPLE-STRUCTURED-LOCATION;VALUE=URI;X-ADDRESS=St. James Episcopal Church 7486 Union Park Ave Midvale UT Midvale UT 84047 United States;X-APPLE-RADIUS=500;X-TITLE=7486 Union Park Ave\, Midvale\, UT:geo:-111.8596067,40.6149838
END:VEVENT
BEGIN:VEVENT
DTSTART;TZID=UTC:20160906T080000
DTEND;TZID=UTC:20160906T175900
DTSTAMP:20260420T115808
CREATED:20160412T043927Z
LAST-MODIFIED:20161128T031023Z
UID:10000049-1473148800-1473184740@fourthstreetclinic.org
SUMMARY:The Great Inflatable Race
DESCRIPTION:WHAT IS THE GREAT INFLATABLE RACE?\nIt’s the wackiest\, craziest\, and bounciest obstacle fun run to hit the nation! The concept of this unique fun run are the giant inflatable obstacles spread throughout the course that bounce\, bump\, and slide you all over the place! There is no better fun run to attend with your friends\, families\, and thousands of strangers than The Great Inflatable Race!\nFourth Street Clinic is the official charity partner of the charity! \nWant to run the race?\nMake sure you sign up using our promo code: 4thst\nhttp://www.thegreatinflatablerace.com/#!salt-lake-city/c193c\n \nWant to volunteer?\nYou may sign up here\, click Volunteer\, and then let us know you have signed up to volunteer: www.TheGreatInflatableRace.com/Salt_Lake_city \nPlease email Laurel to let us know you are volunteering: laurel@fourthstreetclinic.org \nCheck out the Official Facebook Event!
URL:https://fourthstreetclinic.org/event/the-great-inflatable-race/
LOCATION:UT
END:VEVENT
END:VCALENDAR